BEGIN:VCALENDAR
VERSION:2.0
PRODID:-//hacksw/handcal//NONSGML v1.0//EN
BEGIN:VEVENT
SUMMARY:Meeting de l'Entente des Mauges
UID:9208934a-da51-4b52-9520-004d5f588336
DTSTART:20260410T220000Z
DTEND:20260411T220000Z
LOCATION:Localisation Stade  Beaupreau en Mauges
CATEGORIES:Sportif
STATUS:
URL;VALUE=URI:https://www.athletisme-lapommeraye.com/evenements/2026/04/11/meeting-de-lentente-des-mauges-2432460
END:VEVENT
END:VCALENDAR
